BEGIN:VCALENDAR
VERSION:2.0
PRODID:-//Squarespace Inc/Squarespace 6//v6//EN
BEGIN:VEVENT
UID:5b6535d71ae6cf3410e5fb15@squarespace.com
DTSTAMP:20180804T051951Z
DTSTART:20180908T083000Z
DTEND:20180908T103000Z
SUMMARY:Sermon / Bible Study Part1
END:VEVENT
END:VCALENDAR
