BEGIN:VCALENDAR
VERSION:2.0
PRODID:-//Squarespace Inc/Squarespace 6//v6//EN
BEGIN:VEVENT
UID:5c4b06958a922d78806803e6@squarespace.com
DTSTAMP:20190317T035538Z
DTSTART:20190413T083000Z
DTEND:20190413T103000Z
SUMMARY:Bible Message
END:VEVENT
END:VCALENDAR
