BEGIN:VCALENDAR
VERSION:2.0
PRODID:-//Squarespace Inc/Squarespace 6//v6//EN
BEGIN:VEVENT
UID:5c440533032be40b011c03b5@squarespace.com
DTSTAMP:20190125T115718Z
DTSTART:20190126T083000Z
DTEND:20190126T103000Z
SUMMARY:Saturday Service
END:VEVENT
END:VCALENDAR
