BEGIN:VCALENDAR
VERSION:2.0
PRODID:-//Squarespace Inc/Squarespace 6//v6//EN
BEGIN:VEVENT
UID:5d6b842798811e0001836f28@squarespace.com
DTSTAMP:20190907T010355Z
DTSTART:20191012T083000Z
DTEND:20191012T103000Z
SUMMARY:Bible Study
END:VEVENT
END:VCALENDAR
