BEGIN:VCALENDAR
VERSION:2.0
PRODID:-//Squarespace Inc/Squarespace 6//v6//EN
BEGIN:VEVENT
UID:5d6b848470b5560001688ef3@squarespace.com
DTSTAMP:20190907T011111Z
DTSTART:20191019T083000Z
DTEND:20191019T123000Z
SUMMARY:A study on doctrine
END:VEVENT
END:VCALENDAR
