BEGIN:VCALENDAR
VERSION:2.0
PRODID:-//Squarespace Inc/Squarespace 6//v6//EN
BEGIN:VEVENT
UID:5d6b852f666cc100012208b5@squarespace.com
DTSTAMP:20190901T084611Z
DTSTART:20191027T090000Z
DTEND:20191027T110000Z
SUMMARY:Church United
END:VEVENT
END:VCALENDAR
