BEGIN:VCALENDAR
VERSION:2.0
PRODID:-//Squarespace Inc/Squarespace 6//v6//EN
BEGIN:VEVENT
UID:5d6b830970b5560001688981@squarespace.com
DTSTAMP:20190907T010256Z
DTSTART:20191005T083000Z
DTEND:20191005T103000Z
SUMMARY:Bible Study
END:VEVENT
END:VCALENDAR
