BEGIN:VCALENDAR
VERSION:2.0
PRODID:-//Squarespace Inc/Squarespace 6//v6//EN
BEGIN:VEVENT
UID:5d6b862a0e4ae8000193f67d@squarespace.com
DTSTAMP:20191109T011525Z
DTSTART:20191117T083000Z
DTEND:20191117T103000Z
SUMMARY:Hebrew Study
END:VEVENT
END:VCALENDAR
