BEGIN:VCALENDAR
VERSION:2.0
PRODID:-//Squarespace Inc/Squarespace 6//v6//EN
BEGIN:VEVENT
UID:5d6b856b70b55600016892ed@squarespace.com
DTSTAMP:20190901T084748Z
DTSTART:20191102T083000Z
DTEND:20191102T103000Z
SUMMARY:Bible Study
END:VEVENT
END:VCALENDAR
