BEGIN:VCALENDAR
VERSION:2.0
PRODID:-//Squarespace Inc/Squarespace 6//v6//EN
BEGIN:VEVENT
UID:5d6b8a26f0b2850001f8d074@squarespace.com
DTSTAMP:20191113T102626Z
DTSTART:20191124T083000Z
DTEND:20191124T133000Z
SUMMARY:Church United (last for 2019)
END:VEVENT
END:VCALENDAR
