BEGIN:VCALENDAR
VERSION:2.0
PRODID:-//Squarespace Inc/Squarespace 6//v6//EN
BEGIN:VEVENT
UID:5d6b85bd35affe0001f4d9de@squarespace.com
DTSTAMP:20190901T112035Z
DTSTART:20191109T083000Z
DTEND:20191109T103000Z
SUMMARY:Bible Study
END:VEVENT
END:VCALENDAR
