BEGIN:VCALENDAR
VERSION:2.0
PRODID:-//Squarespace Inc/Squarespace 6//v6//EN
BEGIN:VEVENT
UID:5d6b8a8b279f0d0001119b6a@squarespace.com
DTSTAMP:20191124T061738Z
DTSTART:20191130T083000Z
DTEND:20191130T103000Z
SUMMARY:Bible Study
END:VEVENT
END:VCALENDAR
