BEGIN:VCALENDAR
VERSION:2.0
PRODID:-//Squarespace Inc/Squarespace 6//v6//EN
BEGIN:VEVENT
UID:5dea598f97b2c53a5ec75d35@squarespace.com
DTSTAMP:20191206T133916Z
DTSTART:20191214T083000Z
DTEND:20191214T103000Z
SUMMARY:Hebrew Study
END:VEVENT
END:VCALENDAR
