BEGIN:VCALENDAR
VERSION:2.0
PRODID:-//Squarespace Inc/Squarespace 6//v6//EN
BEGIN:VEVENT
UID:5dea5a1a53ac1c48c13057e9@squarespace.com
DTSTAMP:20191206T134359Z
DTSTART:20191221T090000Z
DTEND:20191221T120000Z
SUMMARY:Dinner together
END:VEVENT
END:VCALENDAR
