BEGIN:VCALENDAR
VERSION:2.0
PRODID:-//Squarespace Inc/Squarespace 6//v6//EN
BEGIN:VEVENT
UID:5dea5b4d53ac1c48c13073af@squarespace.com
DTSTAMP:20191206T134802Z
DTSTART:20191228T083000Z
DTEND:20191228T103000Z
SUMMARY:Bible Study
END:VEVENT
END:VCALENDAR
