BEGIN:VCALENDAR
VERSION:2.0
PRODID:-//Squarespace Inc/Squarespace 6//v6//EN
BEGIN:VEVENT
UID:5dea58f953ac1c48c1303a56@squarespace.com
DTSTAMP:20191206T133658Z
DTSTART:20191207T083000Z
DTEND:20191207T103000Z
SUMMARY:Bible Study
END:VEVENT
END:VCALENDAR
