BEGIN:VCALENDAR
VERSION:2.0
PRODID:-//Squarespace Inc/Squarespace 6//v6//EN
BEGIN:VEVENT
UID:5c5bcbe19140b749eb7a5c4a@squarespace.com
DTSTAMP:20190207T061153Z
DTSTART:20190216T083000Z
DTEND:20190216T103000Z
SUMMARY:The Forums.
END:VEVENT
END:VCALENDAR
