BEGIN:VCALENDAR
VERSION:2.0
PRODID:-//Squarespace Inc/Squarespace 6//v6//EN
BEGIN:VEVENT
UID:5c4afb250ebbe892230e75b7@squarespace.com
DTSTAMP:20190127T133914Z
DTSTART:20190209T083000Z
DTEND:20190209T103000Z
SUMMARY:Bible message
END:VEVENT
END:VCALENDAR
