BEGIN:VCALENDAR
VERSION:2.0
PRODID:-//Squarespace Inc/Squarespace 6//v6//EN
BEGIN:VEVENT
UID:5c4af9ae7ba7fc196c821d7c@squarespace.com
DTSTAMP:20190125T120057Z
DTSTART:20190202T083000Z
DTEND:20190202T103000Z
SUMMARY:1st Peter Bible Study
END:VEVENT
END:VCALENDAR
