BEGIN:VCALENDAR
VERSION:2.0
PRODID:-//Squarespace Inc/Squarespace 6//v6//EN
BEGIN:VEVENT
UID:5c4afb8b562fa7282d506727@squarespace.com
DTSTAMP:20190125T121247Z
DTSTART:20190224T090000Z
DTEND:20190224T110000Z
SUMMARY:Church United
END:VEVENT
END:VCALENDAR
