BEGIN:VCALENDAR
VERSION:2.0
PRODID:-//Squarespace Inc/Squarespace 6//v6//EN
BEGIN:VEVENT
UID:5c4b0235575d1f6e8ab1b7c2@squarespace.com
DTSTAMP:20190127T134208Z
DTSTART:20190316T083000Z
DTEND:20190316T103000Z
SUMMARY:The Forums
END:VEVENT
END:VCALENDAR
