BEGIN:VCALENDAR
VERSION:2.0
PRODID:-//Squarespace Inc/Squarespace 6//v6//EN
BEGIN:VEVENT
UID:5c4afd800ebbe892230e86f5@squarespace.com
DTSTAMP:20190125T123300Z
DTSTART:20190302T083000Z
DTEND:20190302T103000Z
SUMMARY:Bible message
END:VEVENT
END:VCALENDAR
