BEGIN:VCALENDAR
VERSION:2.0
PRODID:-//Squarespace Inc/Squarespace 6//v6//EN
BEGIN:VEVENT
UID:5c4b02cb4fa51a0af25df9ba@squarespace.com
DTSTAMP:20190125T123807Z
DTSTART:20190323T083000Z
DTEND:20190323T103000Z
SUMMARY:Hebrew Study
END:VEVENT
END:VCALENDAR
