BEGIN:VCALENDAR
VERSION:2.0
PRODID:-//Squarespace Inc/Squarespace 6//v6//EN
BEGIN:VEVENT
UID:5c4b03404ae237d5a49b00ff@squarespace.com
DTSTAMP:20190125T123856Z
DTSTART:20190331T090000Z
DTEND:20190331T110000Z
SUMMARY:Church United
END:VEVENT
END:VCALENDAR
