BEGIN:VCALENDAR
VERSION:2.0
PRODID:-//Squarespace Inc/Squarespace 6//v6//EN
BEGIN:VEVENT
UID:5c4afe5f032be4626ceec45d@squarespace.com
DTSTAMP:20190125T122117Z
DTSTART:20190309T083000Z
DTEND:20190309T103000Z
SUMMARY:Completion of 1st Peter
END:VEVENT
END:VCALENDAR
