BEGIN:VCALENDAR
VERSION:2.0
PRODID:-//Squarespace Inc/Squarespace 6//v6//EN
BEGIN:VEVENT
UID:5c4b079803ce64b78cf7960a@squarespace.com
DTSTAMP:20190125T130107Z
DTSTART:20190420T090000Z
DTEND:20190420T120000Z
SUMMARY:Saturday get together
END:VEVENT
END:VCALENDAR
