BEGIN:VCALENDAR
VERSION:2.0
PRODID:-//Squarespace Inc/Squarespace 6//v6//EN
BEGIN:VEVENT
UID:5c4b08b06d2a7343356f4b9c@squarespace.com
DTSTAMP:20190125T130209Z
DTSTART:20190428T090000Z
DTEND:20190428T110000Z
SUMMARY:Church United
END:VEVENT
END:VCALENDAR
