BEGIN:VCALENDAR
VERSION:2.0
PRODID:-//Squarespace Inc/Squarespace 6//v6//EN
BEGIN:VEVENT
UID:5c4b0535f950b7df1956bd56@squarespace.com
DTSTAMP:20190125T125216Z
DTSTART:20190406T083000Z
DTEND:20190406T103000Z
SUMMARY:Bible Study
END:VEVENT
END:VCALENDAR
