BEGIN:VCALENDAR
VERSION:2.0
PRODID:-//Squarespace Inc/Squarespace 6//v6//EN
BEGIN:VEVENT
UID:5cc84a169e3a8d0001892a55@squarespace.com
DTSTAMP:20190430T131615Z
DTSTART:20190511T083000Z
DTEND:20190511T103000Z
SUMMARY:Hebrew Study
END:VEVENT
END:VCALENDAR
