BEGIN:VCALENDAR
VERSION:2.0
PRODID:-//Squarespace Inc/Squarespace 6//v6//EN
BEGIN:VEVENT
UID:5cc85052ee6eb06c45440d22@squarespace.com
DTSTAMP:20190430T134233Z
DTSTART:20190518T083000Z
DTEND:20190518T103000Z
SUMMARY:The Forums.
END:VEVENT
END:VCALENDAR
