BEGIN:VCALENDAR
VERSION:2.0
PRODID:-//Squarespace Inc/Squarespace 6//v6//EN
BEGIN:VEVENT
UID:5cdf734d8344ac0001b2938a@squarespace.com
DTSTAMP:20190518T025338Z
DTSTART:20190526T090000Z
DTEND:20190526T110000Z
SUMMARY:Church United
END:VEVENT
END:VCALENDAR
