BEGIN:VCALENDAR
VERSION:2.0
PRODID:-//Squarespace Inc/Squarespace 6//v6//EN
BEGIN:VEVENT
UID:5cdf74193e26720001870c3b@squarespace.com
DTSTAMP:20190518T030055Z
DTSTART:20190601T083000Z
DTEND:20190601T103000Z
SUMMARY:Bible Study
END:VEVENT
END:VCALENDAR
