BEGIN:VCALENDAR
VERSION:2.0
PRODID:-//Squarespace Inc/Squarespace 6//v6//EN
BEGIN:VEVENT
UID:5cdf7621a265cb0001059fc8@squarespace.com
DTSTAMP:20190518T030508Z
DTSTART:20190615T083000Z
DTEND:20190615T103000Z
SUMMARY:Bible message
END:VEVENT
END:VCALENDAR
