BEGIN:VCALENDAR
VERSION:2.0
PRODID:-//Squarespace Inc/Squarespace 6//v6//EN
BEGIN:VEVENT
UID:5cdf767fb6e19700012d00c8@squarespace.com
DTSTAMP:20190603T003805Z
DTSTART:20190622T083000Z
DTEND:20190622T103000Z
SUMMARY:Bible Study
END:VEVENT
END:VCALENDAR
