BEGIN:VCALENDAR
VERSION:2.0
PRODID:-//Squarespace Inc/Squarespace 6//v6//EN
BEGIN:VEVENT
UID:5cdf76dc62f60d0001b5d85e@squarespace.com
DTSTAMP:20190518T030831Z
DTSTART:20190630T090000Z
DTEND:20190630T110000Z
SUMMARY:Church United
END:VEVENT
END:VCALENDAR
