BEGIN:VCALENDAR
VERSION:2.0
PRODID:-//Squarespace Inc/Squarespace 6//v6//EN
BEGIN:VEVENT
UID:5cdf757976d11a00012d9830@squarespace.com
DTSTAMP:20190518T030332Z
DTSTART:20190608T083000Z
DTEND:20190608T103000Z
SUMMARY:Bible Study
END:VEVENT
END:VCALENDAR
