BEGIN:VCALENDAR
VERSION:2.0
PRODID:-//Squarespace Inc/Squarespace 6//v6//EN
BEGIN:VEVENT
UID:5d0f589595d2ac00017f6235@squarespace.com
DTSTAMP:20190623T110353Z
DTSTART:20190713T083000Z
DTEND:20190713T103000Z
SUMMARY:Hebrew Study
END:VEVENT
END:VCALENDAR
