BEGIN:VCALENDAR
VERSION:2.0
PRODID:-//Squarespace Inc/Squarespace 6//v6//EN
BEGIN:VEVENT
UID:5d0f590474b8d50001bd31f4@squarespace.com
DTSTAMP:20190623T110642Z
DTSTART:20190720T083000Z
DTEND:20190720T103000Z
SUMMARY:Bible message
END:VEVENT
END:VCALENDAR
