BEGIN:VCALENDAR
VERSION:2.0
PRODID:-//Squarespace Inc/Squarespace 6//v6//EN
BEGIN:VEVENT
UID:5d0f597ca6630100017e4d79@squarespace.com
DTSTAMP:20190623T105216Z
DTSTART:20190728T090000Z
DTEND:20190728T110000Z
SUMMARY:Church United
END:VEVENT
END:VCALENDAR
