BEGIN:VCALENDAR
VERSION:2.0
PRODID:-//Squarespace Inc/Squarespace 6//v6//EN
BEGIN:VEVENT
UID:5d0f5d65a71ad00001036f92@squarespace.com
DTSTAMP:20190623T110901Z
DTSTART:20190810T083000Z
DTEND:20190810T103000Z
SUMMARY:Bible Study
END:VEVENT
END:VCALENDAR
