BEGIN:VCALENDAR
VERSION:2.0
PRODID:-//Squarespace Inc/Squarespace 6//v6//EN
BEGIN:VEVENT
UID:5d0f5de0247fa10001eff32d@squarespace.com
DTSTAMP:20190623T111035Z
DTSTART:20190817T083000Z
DTEND:20190817T103000Z
SUMMARY:Hebrew study
END:VEVENT
END:VCALENDAR
