BEGIN:VCALENDAR
VERSION:2.0
PRODID:-//Squarespace Inc/Squarespace 6//v6//EN
BEGIN:VEVENT
UID:5d0f5cc53bd0a2000175fffb@squarespace.com
DTSTAMP:20190623T110559Z
DTSTART:20190803T083000Z
DTEND:20190803T103000Z
SUMMARY:Bible message
END:VEVENT
END:VCALENDAR
