BEGIN:VCALENDAR
VERSION:2.0
PRODID:-//Squarespace Inc/Squarespace 6//v6//EN
BEGIN:VEVENT
UID:5d0f5ebba6630100017e74e9@squarespace.com
DTSTAMP:20190623T111404Z
DTSTART:20190831T083000Z
DTEND:20190831T103000Z
SUMMARY:Bible Study
END:VEVENT
END:VCALENDAR
