BEGIN:VCALENDAR
VERSION:2.0
PRODID:-//Squarespace Inc/Squarespace 6//v6//EN
BEGIN:VEVENT
UID:5d6b80b5e543ab0001f1682d@squarespace.com
DTSTAMP:20190907T010209Z
DTSTART:20190914T083000Z
DTEND:20190914T103000Z
SUMMARY:Bible Study
END:VEVENT
END:VCALENDAR
