BEGIN:VCALENDAR
VERSION:2.0
PRODID:-//Squarespace Inc/Squarespace 6//v6//EN
BEGIN:VEVENT
UID:5d6b815bf0b2850001f8b263@squarespace.com
DTSTAMP:20190901T084019Z
DTSTART:20190921T083000Z
DTEND:20190921T123000Z
SUMMARY:Hebrew/ Meal
END:VEVENT
END:VCALENDAR
