BEGIN:VCALENDAR
VERSION:2.0
PRODID:-//Squarespace Inc/Squarespace 6//v6//EN
BEGIN:VEVENT
UID:5d6b827635affe0001f4ccf1@squarespace.com
DTSTAMP:20190901T083602Z
DTSTART:20190929T090000Z
DTEND:20190929T110000Z
SUMMARY:Church United
END:VEVENT
END:VCALENDAR
