BEGIN:VCALENDAR
VERSION:2.0
PRODID:-//Squarespace Inc/Squarespace 6//v6//EN
BEGIN:VEVENT
UID:5d6b7fd20e4ae8000193dc38@squarespace.com
DTSTAMP:20190901T120541Z
DTSTART:20190907T083000Z
DTEND:20190907T103000Z
SUMMARY:Bible Study
END:VEVENT
END:VCALENDAR
