BEGIN:VCALENDAR
VERSION:2.0
PRODID:-//Squarespace Inc/Squarespace 6//v6//EN
BEGIN:VEVENT
UID:5dea5ec47367373ce50bd859@squarespace.com
DTSTAMP:20200105T060924Z
DTSTART:20200112T083000Z
DTEND:20200112T103000Z
SUMMARY:Study on Doctrine
END:VEVENT
END:VCALENDAR
