BEGIN:VCALENDAR
VERSION:2.0
PRODID:-//Squarespace Inc/Squarespace 6//v6//EN
BEGIN:VEVENT
UID:5dea5fa7c2468953b677d97a@squarespace.com
DTSTAMP:20191206T140718Z
DTSTART:20200118T083000Z
DTEND:20200118T103000Z
SUMMARY:Bible Study
END:VEVENT
END:VCALENDAR
