BEGIN:VCALENDAR
VERSION:2.0
PRODID:-//Squarespace Inc/Squarespace 6//v6//EN
BEGIN:VEVENT
UID:5dea60a180f97670d48337de@squarespace.com
DTSTAMP:20191206T140920Z
DTSTART:20200126T090000Z
DTEND:20200126T113000Z
SUMMARY:Church United
END:VEVENT
END:VCALENDAR
